BEGIN:VCALENDAR
PRODID:-//dvv-bw.de//dvv.Portalplattform//DE
VERSION:2.0
METHOD:PUBLISH
BEGIN:VEVENT
DTSTART:20261127T170000Z
DTEND:20261127T190000Z
DTSTAMP:20260424T043642Z
UID:4365797-2039487-1795734000000
SUMMARY:Adventsbazar
LOCATION:Dorfplatz 72348 Rosenfeld-Heiligenzimmern
DESCRIPTION:Adventsbazar
CLASS:PUBLIC
X-ALT-DESC;FMTTYPE=text/html:Adventsbazar
END:VEVENT
END:VCALENDAR
