BEGIN:VCALENDAR
PRODID:-//dvv-bw.de//dvv.Portalplattform//DE
VERSION:2.0
METHOD:PUBLISH
BEGIN:VEVENT
DTSTART:20261205T230000Z
DTEND:20261205T230000Z
DTSTAMP:20260425T110213Z
UID:4368600-3752929-1796511600000
SUMMARY:Adventskonzert
LOCATION:Karsthans-Kirche, Im Oberland 7, 72348 Rosenfeld
DESCRIPTION:Adventskonzert
CLASS:PUBLIC
X-ALT-DESC;FMTTYPE=text/html:Adventskonzert
END:VEVENT
END:VCALENDAR
