BEGIN:VCALENDAR
PRODID:-//dvv-bw.de//dvv.Portalplattform//DE
VERSION:2.0
METHOD:PUBLISH
BEGIN:VEVENT
DTSTART:20261022T220000Z
DTEND:20261022T220000Z
DTSTAMP:20260424T071612Z
UID:4365787-4141207-1792706400000
SUMMARY:Almabtrieb
LOCATION:Schulsaal Isingen, Geranienstr. 6, 72348 Rosenfeld
DESCRIPTION:Almabtrieb
CLASS:PUBLIC
X-ALT-DESC;FMTTYPE=text/html:Almabtrieb
END:VEVENT
END:VCALENDAR
