BEGIN:VCALENDAR
PRODID:-//dvv-bw.de//dvv.Portalplattform//DE
VERSION:2.0
METHOD:PUBLISH
BEGIN:VEVENT
DTSTART:20261010T060000Z
DTEND:20261010T080000Z
DTSTAMP:20260424T101439Z
UID:4365780-2042212-1791583200000
SUMMARY:Altmaterialsammlung
LOCATION:72348 Rosenfeld
DESCRIPTION:Altmaterialsammlung
CLASS:PUBLIC
X-ALT-DESC;FMTTYPE=text/html:Altmaterialsammlung
END:VEVENT
END:VCALENDAR
