BEGIN:VCALENDAR
PRODID:-//dvv-bw.de//dvv.Portalplattform//DE
VERSION:2.0
METHOD:PUBLISH
BEGIN:VEVENT
DTSTART:20261009T220000Z
DTEND:20261009T220000Z
DTSTAMP:20260424T055616Z
UID:4365784-2042214-1791583200000
SUMMARY:Altmaterialsammlung
LOCATION:72348 Rosenfeld-Leidringen
DESCRIPTION:Altmaterialsammlung
CLASS:PUBLIC
X-ALT-DESC;FMTTYPE=text/html:Altmaterialsammlung
END:VEVENT
END:VCALENDAR
