BEGIN:VCALENDAR
PRODID:-//dvv-bw.de//dvv.Portalplattform//DE
VERSION:2.0
METHOD:PUBLISH
BEGIN:VEVENT
DTSTART:20261113T230000Z
DTEND:20261113T230000Z
DTSTAMP:20260424T085005Z
UID:4166857-2035412-1794610800000
SUMMARY:Altpapiersammlung
LOCATION:Stadtgebiet 72348 Rosenfeld
DESCRIPTION:Am Samstag\, den 17. Januar sammeln die Pfadfinder vom Stamm Weiße Rose wieder in der Kernstadt von Rosenfeld das Altpapier. Wenn Sie Altpapier zuhause haben\, dann stellen Sie es bitte gebündelt bis 8:30 Uhr vor Ihr Haus. Ihr Ansprechpartner für Abholaufträge ist erreichbar unter +49 160 94984602. Mit ihrer Spende helfen Sie uns das nächste Lager zu finanzieren. Wir freuen uns über jede Altpapierspende.\nDer VCP Rosenfeld Gut Pfad.
CLASS:PUBLIC
X-ALT-DESC;FMTTYPE=text/html:Am Samstag\, den 17. Januar sammeln die Pfadfinder vom Stamm Weiße Rose wieder in der Kernstadt von Rosenfeld das Altpapier. Wenn Sie Altpapier zuhause haben\, dann stellen Sie es bitte gebündelt bis 8:30 Uhr vor Ihr Haus. Ihr Ansprechpartner für Abholaufträge ist erreichbar unter +49 160 94984602. Mit ihrer Spende helfen Sie uns das nächste Lager zu finanzieren. Wir freuen uns über jede Altpapierspende.<br>Der VCP Rosenfeld Gut Pfad.
END:VEVENT
END:VCALENDAR
