BEGIN:VCALENDAR
PRODID:-//dvv-bw.de//dvv.Portalplattform//DE
VERSION:2.0
METHOD:PUBLISH
BEGIN:VEVENT
DTSTART:20261015T220000Z
DTEND:20261015T220000Z
DTSTAMP:20260424T073045Z
UID:4166861-2035408-1792101600000
SUMMARY:Altpapiersammlung
LOCATION:72348 Rosenfeld-Isingen
DESCRIPTION:Altpapiersammlung
CLASS:PUBLIC
X-ALT-DESC;FMTTYPE=text/html:Altpapiersammlung
END:VEVENT
END:VCALENDAR
