BEGIN:VCALENDAR
PRODID:-//dvv-bw.de//dvv.Portalplattform//DE
VERSION:2.0
METHOD:PUBLISH
BEGIN:VEVENT
DTSTART:20261120T230000Z
DTEND:20261120T230000Z
DTSTAMP:20260424T044145Z
UID:4205858-2039452-1795215600000
SUMMARY:Altpapiersammlung
LOCATION:72348 Rosenfeld-Heiligenzimmern
DESCRIPTION:Altpapiersammlung
CLASS:PUBLIC
X-ALT-DESC;FMTTYPE=text/html:Altpapiersammlung
END:VEVENT
END:VCALENDAR
