BEGIN:VCALENDAR
PRODID:-//dvv-bw.de//dvv.Portalplattform//DE
VERSION:2.0
METHOD:PUBLISH
BEGIN:VEVENT
DTSTART:20261204T230000Z
DTEND:20261204T230000Z
DTSTAMP:20260424T101806Z
UID:4503156-4503056-1796425200000
SUMMARY:Altpapiersammlung
LOCATION:72348 Rosenfeld-Bickelsberg und 72348 Rosenfeld-Brittheim
DESCRIPTION:Altpapiersammlung
CLASS:PUBLIC
X-ALT-DESC;FMTTYPE=text/html:Altpapiersammlung
END:VEVENT
END:VCALENDAR
