BEGIN:VCALENDAR
PRODID:-//dvv-bw.de//dvv.Portalplattform//DE
VERSION:2.0
METHOD:PUBLISH
BEGIN:VEVENT
DTSTART:20260501T090000Z
DTEND:20260501T110000Z
DTSTAMP:20260424T055305Z
UID:4189349-2290268-1777586400000
SUMMARY:Angrillen
LOCATION:B7 Freizeitgelände\, Vöhringer Str. 7\, 72348 Rosenfeld
DESCRIPTION:Angrillen
CLASS:PUBLIC
X-ALT-DESC;FMTTYPE=text/html:Angrillen
END:VEVENT
END:VCALENDAR
