BEGIN:VCALENDAR
PRODID:-//dvv-bw.de//dvv.Portalplattform//DE
VERSION:2.0
METHOD:PUBLISH
BEGIN:VEVENT
DTSTART:20261115T093000Z
DTEND:20261115T113000Z
DTSTAMP:20260421T181654Z
UID:4365792-2045324-1794697200000
SUMMARY:Bittgottesdienst für den Frieden
LOCATION:Martinskirche Isingen\, Kirchstraße 23\, 72348 Rosenfeld
DESCRIPTION:Bittgottesdienst für den Frieden
CLASS:PUBLIC
X-ALT-DESC;FMTTYPE=text/html:Bittgottesdienst für den Frieden
END:VEVENT
END:VCALENDAR
