BEGIN:VCALENDAR
PRODID:-//dvv-bw.de//dvv.Portalplattform//DE
VERSION:2.0
METHOD:PUBLISH
BEGIN:VEVENT
DTSTART:20260514T080000Z
DTEND:20260514T100000Z
DTSTAMP:20260419T122144Z
UID:4198656-2042248-1778709600000
SUMMARY:Blütenfest mit Gottesdienst im Grünen
LOCATION:Obstanlage
DESCRIPTION:Blütenfest mit Gottesdienst im Grünen
CLASS:PUBLIC
X-ALT-DESC;FMTTYPE=text/html:Blütenfest mit Gottesdienst im Grünen
END:VEVENT
END:VCALENDAR
