BEGIN:VCALENDAR
PRODID:-//dvv-bw.de//dvv.Portalplattform//DE
VERSION:2.0
METHOD:PUBLISH
BEGIN:VEVENT
DTSTART:20261126T230000Z
DTEND:20261126T230000Z
DTSTAMP:20260424T115134Z
UID:4166888-2035419-1795734000000
SUMMARY:DRK-Blutspendeaktion
LOCATION:Festhalle Rosenfeld\, Schulstraße 7\, 72348 Rosenfeld
DESCRIPTION:DRK-Blutspendeaktion
CLASS:PUBLIC
X-ALT-DESC;FMTTYPE=text/html:DRK-Blutspendeaktion
END:VEVENT
END:VCALENDAR
