BEGIN:VCALENDAR
PRODID:-//dvv-bw.de//dvv.Portalplattform//DE
VERSION:2.0
METHOD:PUBLISH
BEGIN:VEVENT
DTSTART:20261229T230000Z
DTEND:20261229T230000Z
DTSTAMP:20260424T115103Z
UID:4505659-4505559-1798585200000
SUMMARY:Dartturnier
LOCATION:Sportheim Leidringen, Krempen 1, 72348 Rosenfeld
DESCRIPTION:Dartturnier
CLASS:PUBLIC
X-ALT-DESC;FMTTYPE=text/html:Dartturnier
END:VEVENT
END:VCALENDAR
