BEGIN:VCALENDAR
PRODID:-//dvv-bw.de//dvv.Portalplattform//DE
VERSION:2.0
METHOD:PUBLISH
BEGIN:VEVENT
DTSTART:20261220T170000Z
DTEND:20261220T190000Z
DTSTAMP:20260424T193716Z
UID:4503159-4503059-1797721200000
SUMMARY:Dorfweihnacht
LOCATION:Dorfmitte Täbingen
DESCRIPTION:Dorfweihnacht
CLASS:PUBLIC
X-ALT-DESC;FMTTYPE=text/html:Dorfweihnacht
END:VEVENT
END:VCALENDAR
