BEGIN:VCALENDAR
PRODID:-//dvv-bw.de//dvv.Portalplattform//DE
VERSION:2.0
METHOD:PUBLISH
BEGIN:VEVENT
DTSTART:20261220T150000Z
DTEND:20261220T170000Z
DTSTAMP:20260423T230326Z
UID:4505650-4505550-1797721200000
SUMMARY:Dorfweihnacht mit Gottesdienst
LOCATION:Dorfplatz vor dem Rathaus, 72348 Rosenfeld-Bickelsberg, Albstr. 5, 72348 Rosenfeld
DESCRIPTION:Dorfweihnacht mit Gottesdienst
CLASS:PUBLIC
X-ALT-DESC;FMTTYPE=text/html:Dorfweihnacht mit Gottesdienst
END:VEVENT
END:VCALENDAR
