BEGIN:VCALENDAR
PRODID:-//dvv-bw.de//dvv.Portalplattform//DE
VERSION:2.0
METHOD:PUBLISH
BEGIN:VEVENT
DTSTART:20260705T080000Z
DTEND:20260705T100000Z
DTSTAMP:20260422T103553Z
UID:4198671-2045328-1783202400000
SUMMARY:Erntebittgottesienst
LOCATION:Halle Erich Frommer
DESCRIPTION:Erntebittgottesienst
CLASS:PUBLIC
X-ALT-DESC;FMTTYPE=text/html:Erntebittgottesienst
END:VEVENT
END:VCALENDAR
