BEGIN:VCALENDAR
PRODID:-//dvv-bw.de//dvv.Portalplattform//DE
VERSION:2.0
METHOD:PUBLISH
BEGIN:VEVENT
DTSTART:20260927T083000Z
DTEND:20260927T103000Z
DTSTAMP:20260420T043203Z
UID:4365777-2045321-1790460000000
SUMMARY:Erntedankgottesdienst
LOCATION:Martinskirche Isingen\, Kirchstraße 23\, 72348 Rosenfeld
DESCRIPTION:Erntedankgottesdienst
CLASS:PUBLIC
X-ALT-DESC;FMTTYPE=text/html:Erntedankgottesdienst
END:VEVENT
END:VCALENDAR
