BEGIN:VCALENDAR
PRODID:-//dvv-bw.de//dvv.Portalplattform//DE
VERSION:2.0
METHOD:PUBLISH
BEGIN:VEVENT
DTSTART:20260927T073000Z
DTEND:20260927T093000Z
DTSTAMP:20260423T211958Z
UID:4365778-2045320-1790460000000
SUMMARY:Erntedankgottesdienst
LOCATION:Evangelische Stadtkirche Rosenfeld\, Mömpelgardgasse 28\, 72348 Rosenfeld
DESCRIPTION:Erntedankgottesdienst
CLASS:PUBLIC
X-ALT-DESC;FMTTYPE=text/html:Erntedankgottesdienst
END:VEVENT
END:VCALENDAR
