BEGIN:VCALENDAR
PRODID:-//dvv-bw.de//dvv.Portalplattform//DE
VERSION:2.0
METHOD:PUBLISH
BEGIN:VEVENT
DTSTART:20260513T220000Z
DTEND:20260513T220000Z
DTSTAMP:20260424T180418Z
UID:4198657-2045301-1778709600000
SUMMARY:Familienfrühjahreswanderung
DESCRIPTION:Familienfrühjahreswanderung
CLASS:PUBLIC
X-ALT-DESC;FMTTYPE=text/html:Familienfrühjahreswanderung
END:VEVENT
END:VCALENDAR
