BEGIN:VCALENDAR
PRODID:-//dvv-bw.de//dvv.Portalplattform//DE
VERSION:2.0
METHOD:PUBLISH
BEGIN:VEVENT
DTSTART:20261224T143000Z
DTEND:20261224T163000Z
DTSTAMP:20260424T073317Z
UID:4505654-4505554-1798066800000
SUMMARY:Familiengottesdienst mit Krippenspiel
LOCATION:Evangelische Stadtkirche Rosenfeld\, Mömpelgardgasse 28\, 72348 Rosenfeld
DESCRIPTION:Familiengottesdienst mit Krippenspiel
CLASS:PUBLIC
X-ALT-DESC;FMTTYPE=text/html:Familiengottesdienst mit Krippenspiel
END:VEVENT
END:VCALENDAR
