BEGIN:VCALENDAR
PRODID:-//dvv-bw.de//dvv.Portalplattform//DE
VERSION:2.0
METHOD:PUBLISH
BEGIN:VEVENT
DTSTART:20261224T153000Z
DTEND:20261224T173000Z
DTSTAMP:20260424T044231Z
UID:4505655-4505555-1798066800000
SUMMARY:Familiengottesdienst mit Krippenspiel
LOCATION:Martinskirche Isingen\, Kirchstraße 23\, 72348 Rosenfeld
DESCRIPTION:Familiengottesdienst mit Krippenspiel
CLASS:PUBLIC
X-ALT-DESC;FMTTYPE=text/html:Familiengottesdienst mit Krippenspiel
END:VEVENT
END:VCALENDAR
