BEGIN:VCALENDAR
PRODID:-//dvv-bw.de//dvv.Portalplattform//DE
VERSION:2.0
METHOD:PUBLISH
BEGIN:VEVENT
DTSTART:20261024T220000Z
DTEND:20261024T220000Z
DTSTAMP:20260424T084811Z
UID:4374581-4374468-1792879200000
SUMMARY:Feierstunde
LOCATION:Evangelische Stadtkirche Rosenfeld\, Mömpelgardgasse 28\, 72348 Rosenfeld
DESCRIPTION:Feierstunde
CLASS:PUBLIC
X-ALT-DESC;FMTTYPE=text/html:Feierstunde
END:VEVENT
END:VCALENDAR
