BEGIN:VCALENDAR
PRODID:-//dvv-bw.de//dvv.Portalplattform//DE
VERSION:2.0
METHOD:PUBLISH
BEGIN:VEVENT
DTSTART:20260614T080000Z
DTEND:20260614T100000Z
DTSTAMP:20260424T003616Z
UID:4365757-4365657-1781388000000
SUMMARY:Firmung
LOCATION:St. Markus Kirche 72351 Geislingen-Binsdorf\, Kirchstraße 14\, 72351 Geislingen
DESCRIPTION:Firmung
CLASS:PUBLIC
X-ALT-DESC;FMTTYPE=text/html:Firmung
END:VEVENT
END:VCALENDAR
