BEGIN:VCALENDAR
PRODID:-//dvv-bw.de//dvv.Portalplattform//DE
VERSION:2.0
METHOD:PUBLISH
BEGIN:VEVENT
DTSTART:20260510T120000Z
DTEND:20260510T140000Z
DTSTAMP:20260424T212625Z
UID:4531904-4531803-1778364000000
SUMMARY:Führung zum Römischen Gutshof
LOCATION:Römerbad 72348 Rosenfeld\, Drosselweg\, 72348 Rosenfeld
DESCRIPTION:Dr. Volker Seibel führt Besucherinnen und Besucher durch die Freilichtanlage in Rosenfeld. Diese ist Teil eines römischen Gutshofes\, der wohl einem nicht unvermögenden Herrn gehörte. Der Westteil der Villa rustica wurde in den Fundamenten gesichert und teilweise überdacht. Zu sehen ist hier ein kleines Bad mit Auskleideraum\, Kalt-\, Heiß- und Schwitzbad\, das an die Schmalseite des römischen Gebäudes angebaut worden war. Kostenlos\, keine Anmeldung erforderlich.
CLASS:PUBLIC
X-ALT-DESC;FMTTYPE=text/html:Dr. Volker Seibel führt Besucherinnen und Besucher durch die Freilichtanlage in Rosenfeld. Diese ist Teil eines römischen Gutshofes\, der wohl einem nicht unvermögenden Herrn gehörte. Der Westteil der Villa rustica wurde in den Fundamenten gesichert und teilweise überdacht. Zu sehen ist hier ein kleines Bad mit Auskleideraum\, Kalt-\, Heiß- und Schwitzbad\, das an die Schmalseite des römischen Gebäudes angebaut worden war. Kostenlos\, keine Anmeldung erforderlich.
END:VEVENT
END:VCALENDAR
