BEGIN:VCALENDAR
PRODID:-//dvv-bw.de//dvv.Portalplattform//DE
VERSION:2.0
METHOD:PUBLISH
BEGIN:VEVENT
DTSTART:20261030T230000Z
DTEND:20261030T230000Z
DTSTAMP:20260424T071715Z
UID:4374567-4374467-1793401200000
SUMMARY:Halloween Party
LOCATION:Sportheim Brittheim, Am Wasserturm 2, 72348 Rosenfeld
DESCRIPTION:Halloween Party
CLASS:PUBLIC
X-ALT-DESC;FMTTYPE=text/html:Halloween Party
END:VEVENT
END:VCALENDAR
