BEGIN:VCALENDAR
PRODID:-//dvv-bw.de//dvv.Portalplattform//DE
VERSION:2.0
METHOD:PUBLISH
BEGIN:VEVENT
DTSTART:20260508T180000Z
DTEND:20260508T200000Z
DTSTAMP:20260424T072513Z
UID:4260953-4260853-1778191200000
SUMMARY:Hauptversammlung
LOCATION:Progymnasium Rosenfeld\, Schulstraße 9\, 72348 Rosenfeld
DESCRIPTION:Hauptversammlung
CLASS:PUBLIC
X-ALT-DESC;FMTTYPE=text/html:Hauptversammlung
END:VEVENT
END:VCALENDAR
