BEGIN:VCALENDAR
PRODID:-//dvv-bw.de//dvv.Portalplattform//DE
VERSION:2.0
METHOD:PUBLISH
BEGIN:VEVENT
DTSTART:20261107T180000Z
DTEND:20261107T200000Z
DTSTAMP:20260424T084857Z
UID:4503151-4503051-1794006000000
SUMMARY:Herbstkonzert
LOCATION:Tagwin Halle Täbingen\, Allmendstr. 13/1\, 72348 Rosenfeld
DESCRIPTION:Herbstkonzert
CLASS:PUBLIC
X-ALT-DESC;FMTTYPE=text/html:Herbstkonzert
END:VEVENT
END:VCALENDAR
