BEGIN:VCALENDAR
PRODID:-//dvv-bw.de//dvv.Portalplattform//DE
VERSION:2.0
METHOD:PUBLISH
BEGIN:VEVENT
DTSTART:20261106T230000Z
DTEND:20261106T230000Z
DTSTAMP:20260424T084927Z
UID:4365789-4073329-1794006000000
SUMMARY:Herbstsingen
LOCATION:Allerheiligenkirche Brittheim, Hauptstr. 2, 72348 Rosenfeld
DESCRIPTION:Herbstsingen
CLASS:PUBLIC
X-ALT-DESC;FMTTYPE=text/html:Herbstsingen
END:VEVENT
END:VCALENDAR
