BEGIN:VCALENDAR
PRODID:-//dvv-bw.de//dvv.Portalplattform//DE
VERSION:2.0
METHOD:PUBLISH
BEGIN:VEVENT
DTSTART:20261231T160000Z
DTEND:20261231T180000Z
DTSTAMP:20260424T170541Z
UID:4505661-4505561-1798671600000
SUMMARY:Jahresabschlussgottesdienst mit der Stadtkapelle
LOCATION:Evangelische Stadtkirche Rosenfeld\, Mömpelgardgasse 28\, 72348 Rosenfeld
DESCRIPTION:Jahresabschlussgottesdienst mit der Stadtkapelle
CLASS:PUBLIC
X-ALT-DESC;FMTTYPE=text/html:Jahresabschlussgottesdienst mit der Stadtkapelle
END:VEVENT
END:VCALENDAR
