BEGIN:VCALENDAR
PRODID:-//dvv-bw.de//dvv.Portalplattform//DE
VERSION:2.0
METHOD:PUBLISH
BEGIN:VEVENT
DTSTART:20261205T190000Z
DTEND:20261205T210000Z
DTSTAMP:20260423T231442Z
UID:4365798-2039481-1796425200000
SUMMARY:Jahreskonzert
LOCATION:Festhalle Rosenfeld\, Schulstraße 7\, 72348 Rosenfeld
DESCRIPTION:Jahreskonzert
CLASS:PUBLIC
X-ALT-DESC;FMTTYPE=text/html:Jahreskonzert
END:VEVENT
END:VCALENDAR
