BEGIN:VCALENDAR
PRODID:-//dvv-bw.de//dvv.Portalplattform//DE
VERSION:2.0
METHOD:PUBLISH
BEGIN:VEVENT
DTSTART:20260628T133000Z
DTEND:20260628T153000Z
DTSTAMP:20260420T042546Z
UID:4198665-2045318-1782597600000
SUMMARY:Johannitergottesdienst
LOCATION:Martinskirche Isingen\, Kirchstraße 23\, 72348 Rosenfeld
DESCRIPTION:Johannitergottesdienst
CLASS:PUBLIC
X-ALT-DESC;FMTTYPE=text/html:Johannitergottesdienst
END:VEVENT
END:VCALENDAR
