BEGIN:VCALENDAR
PRODID:-//dvv-bw.de//dvv.Portalplattform//DE
VERSION:2.0
METHOD:PUBLISH
BEGIN:VEVENT
DTSTART:20261011T090000Z
DTEND:20261011T110000Z
DTSTAMP:20260424T071745Z
UID:4365781-2042210-1791669600000
SUMMARY:Kirbe
LOCATION:Turnhalle Heiligenzimmern, Stunzachweg 9, 72348 Rosenfeld
DESCRIPTION:Kirbe
CLASS:PUBLIC
X-ALT-DESC;FMTTYPE=text/html:Kirbe
END:VEVENT
END:VCALENDAR
