BEGIN:VCALENDAR
PRODID:-//dvv-bw.de//dvv.Portalplattform//DE
VERSION:2.0
METHOD:PUBLISH
BEGIN:VEVENT
DTSTART:20260502T160000Z
DTEND:20260502T180000Z
DTSTAMP:20260421T122730Z
UID:4198655-2042240-1777672800000
SUMMARY:Konfirmandenabendmahls-Gottesdienst
LOCATION:Martinskirche Isingen\, Kirchstraße 23\, 72348 Rosenfeld
DESCRIPTION:Konfirmandenabendmahls-Gottesdienst
CLASS:PUBLIC
X-ALT-DESC;FMTTYPE=text/html:Konfirmandenabendmahls-Gottesdienst
END:VEVENT
END:VCALENDAR
