BEGIN:VCALENDAR
PRODID:-//dvv-bw.de//dvv.Portalplattform//DE
VERSION:2.0
METHOD:PUBLISH
BEGIN:VEVENT
DTSTART:20260503T080000Z
DTEND:20260503T100000Z
DTSTAMP:20260419T124156Z
UID:4198653-3563959-1777759200000
SUMMARY:Konfirmation
LOCATION:Evangelische Stadtkirche Rosenfeld\, Mömpelgardgasse 28\, 72348 Rosenfeld
DESCRIPTION:Konfirmation
CLASS:PUBLIC
X-ALT-DESC;FMTTYPE=text/html:Konfirmation
END:VEVENT
END:VCALENDAR
