BEGIN:VCALENDAR
PRODID:-//dvv-bw.de//dvv.Portalplattform//DE
VERSION:2.0
METHOD:PUBLISH
BEGIN:VEVENT
DTSTART:20261128T180000Z
DTEND:20261128T200000Z
DTSTAMP:20260424T114910Z
UID:4503154-4503054-1795820400000
SUMMARY:Konzert
LOCATION:Turnhalle Heiligenzimmern, Stunzachweg 9, 72348 Rosenfeld
DESCRIPTION:Konzert
CLASS:PUBLIC
X-ALT-DESC;FMTTYPE=text/html:Konzert
END:VEVENT
END:VCALENDAR
