BEGIN:VCALENDAR
PRODID:-//dvv-bw.de//dvv.Portalplattform//DE
VERSION:2.0
METHOD:PUBLISH
BEGIN:VEVENT
DTSTART:20261001T220000Z
DTEND:20261001T220000Z
DTSTAMP:20260424T160951Z
UID:4481191-4481091-1790892000000
SUMMARY:Lesung
DESCRIPTION:Lesung
CLASS:PUBLIC
X-ALT-DESC;FMTTYPE=text/html:Lesung
END:VEVENT
END:VCALENDAR
