BEGIN:VCALENDAR
PRODID:-//dvv-bw.de//dvv.Portalplattform//DE
VERSION:2.0
METHOD:PUBLISH
BEGIN:VEVENT
DTSTART:20261023T220000Z
DTEND:20261023T220000Z
DTSTAMP:20260424T115046Z
UID:4503150-4503050-1792792800000
SUMMARY:Liederabend
LOCATION:Kleiner Heuberg-Halle, Max-Traber-Str. 11, 72348 Rosenfeld
DESCRIPTION:Liederabend
CLASS:PUBLIC
X-ALT-DESC;FMTTYPE=text/html:Liederabend
END:VEVENT
END:VCALENDAR
