BEGIN:VCALENDAR
PRODID:-//dvv-bw.de//dvv.Portalplattform//DE
VERSION:2.0
METHOD:PUBLISH
BEGIN:VEVENT
DTSTART:20261105T230000Z
DTEND:20261105T230000Z
DTSTAMP:20260424T183950Z
UID:4365788-4175160-1793919600000
SUMMARY:Liederkranz Einkehr
DESCRIPTION:Liederkranz Einkehr
CLASS:PUBLIC
X-ALT-DESC;FMTTYPE=text/html:Liederkranz Einkehr
END:VEVENT
END:VCALENDAR
