BEGIN:VCALENDAR
PRODID:-//dvv-bw.de//dvv.Portalplattform//DE
VERSION:2.0
METHOD:PUBLISH
BEGIN:VEVENT
DTSTART:20260507T220000Z
DTEND:20260507T220000Z
DTSTAMP:20260424T131235Z
UID:4357355-4357405-1778191200000
SUMMARY:Liederkranzeinkehr
LOCATION:Schulsaal Isingen, Geranienstr. 6, 72348 Rosenfeld
DESCRIPTION:Liederkranzeinkehr
CLASS:PUBLIC
X-ALT-DESC;FMTTYPE=text/html:Liederkranzeinkehr
END:VEVENT
END:VCALENDAR
