BEGIN:VCALENDAR
PRODID:-//dvv-bw.de//dvv.Portalplattform//DE
VERSION:2.0
METHOD:PUBLISH
BEGIN:VEVENT
DTSTART:20260430T160000Z
DTEND:20260430T180000Z
DTSTAMP:20260424T090422Z
UID:4526450-4526350-1777500000000
SUMMARY:Maibaumhockete in Täbingen
LOCATION:Bürger- und Feuerwehrgerätehaus Täbingen\, Bergstraße 4\, 72348 Rosenfeld
DESCRIPTION:Maibaumhockete in Täbingen
CLASS:PUBLIC
X-ALT-DESC;FMTTYPE=text/html:Maibaumhockete in Täbingen
END:VEVENT
END:VCALENDAR
