BEGIN:VCALENDAR
PRODID:-//dvv-bw.de//dvv.Portalplattform//DE
VERSION:2.0
METHOD:PUBLISH
BEGIN:VEVENT
DTSTART:20260430T220000Z
DTEND:20260430T220000Z
DTSTAMP:20260424T071950Z
UID:4189323-3346117-1777586400000
SUMMARY:Maihockete
LOCATION:Bürger- und Feuerwehrgerätehaus Täbingen\, Bergstraße 4\, 72348 Rosenfeld
DESCRIPTION:Maihockete
CLASS:PUBLIC
X-ALT-DESC;FMTTYPE=text/html:Maihockete
END:VEVENT
END:VCALENDAR
