BEGIN:VCALENDAR
PRODID:-//dvv-bw.de//dvv.Portalplattform//DE
VERSION:2.0
METHOD:PUBLISH
BEGIN:VEVENT
DTSTART:20261008T220000Z
DTEND:20261008T220000Z
DTSTAMP:20260424T072417Z
UID:4374564-4374464-1791496800000
SUMMARY:Mostbesen
LOCATION:Schulsaal Isingen, Geranienstr. 6, 72348 Rosenfeld
DESCRIPTION:Mostbesen
CLASS:PUBLIC
X-ALT-DESC;FMTTYPE=text/html:Mostbesen
END:VEVENT
END:VCALENDAR
