BEGIN:VCALENDAR
PRODID:-//dvv-bw.de//dvv.Portalplattform//DE
VERSION:2.0
METHOD:PUBLISH
BEGIN:VEVENT
DTSTART:20260523T220000Z
DTEND:20260523T220000Z
DTSTAMP:20260420T082044Z
UID:4357351-2045304-1779573600000
SUMMARY:Pfingst-Gottesdienste
LOCATION:Gesamtstadt 72348 Rosenfeld
DESCRIPTION:Pfingst-Gottesdienste
CLASS:PUBLIC
X-ALT-DESC;FMTTYPE=text/html:Pfingst-Gottesdienste
END:VEVENT
END:VCALENDAR
