BEGIN:VCALENDAR
PRODID:-//dvv-bw.de//dvv.Portalplattform//DE
VERSION:2.0
METHOD:PUBLISH
BEGIN:VEVENT
DTSTART:20261203T140000Z
DTEND:20261203T160000Z
DTSTAMP:20260424T115220Z
UID:4159443-4158686-1796252400000
SUMMARY:Rentnerstammtisch
LOCATION:Sportheim Leidringen, Krempen 1, 72348 Rosenfeld
DESCRIPTION:Rentnerstammtisch
CLASS:PUBLIC
X-ALT-DESC;FMTTYPE=text/html:Rentnerstammtisch
END:VEVENT
END:VCALENDAR
