BEGIN:VCALENDAR
PRODID:-//dvv-bw.de//dvv.Portalplattform//DE
VERSION:2.0
METHOD:PUBLISH
BEGIN:VEVENT
DTSTART:20261105T140000Z
DTEND:20261105T160000Z
DTSTAMP:20260424T163850Z
UID:4159444-4158686-1793833200000
SUMMARY:Rentnerstammtisch
LOCATION:Sportheim Leidringen, Krempen 1, 72348 Rosenfeld
DESCRIPTION:Rentnerstammtisch
CLASS:PUBLIC
X-ALT-DESC;FMTTYPE=text/html:Rentnerstammtisch
END:VEVENT
END:VCALENDAR
