BEGIN:VCALENDAR
PRODID:-//dvv-bw.de//dvv.Portalplattform//DE
VERSION:2.0
METHOD:PUBLISH
BEGIN:VEVENT
DTSTART:20261001T130000Z
DTEND:20261001T150000Z
DTSTAMP:20260424T060304Z
UID:4159445-4158686-1790805600000
SUMMARY:Rentnerstammtisch
LOCATION:Sportheim Leidringen, Krempen 1, 72348 Rosenfeld
DESCRIPTION:Rentnerstammtisch
CLASS:PUBLIC
X-ALT-DESC;FMTTYPE=text/html:Rentnerstammtisch
END:VEVENT
END:VCALENDAR
