BEGIN:VCALENDAR
PRODID:-//dvv-bw.de//dvv.Portalplattform//DE
VERSION:2.0
METHOD:PUBLISH
BEGIN:VEVENT
DTSTART:20260507T130000Z
DTEND:20260507T150000Z
DTSTAMP:20260424T085415Z
UID:4166850-4158686-1778104800000
SUMMARY:Rentnerstammtisch
LOCATION:Sportheim Leidringen, Krempen 1, 72348 Rosenfeld
DESCRIPTION:Rentnerstammtisch
CLASS:PUBLIC
X-ALT-DESC;FMTTYPE=text/html:Rentnerstammtisch
END:VEVENT
END:VCALENDAR
