BEGIN:VCALENDAR
PRODID:-//dvv-bw.de//dvv.Portalplattform//DE
VERSION:2.0
METHOD:PUBLISH
BEGIN:VEVENT
DTSTART:20260418T120000Z
DTEND:20260418T140000Z
DTSTAMP:20260418T120000Z
UID:4470500-4470400-1776463200000
SUMMARY:Rosenzauber: Stadtführung
DESCRIPTION:Rosenzauber: Stadtführung
CLASS:PUBLIC
X-ALT-DESC;FMTTYPE=text/html:Rosenzauber: Stadtführung
END:VEVENT
END:VCALENDAR
