BEGIN:VCALENDAR
PRODID:-//dvv-bw.de//dvv.Portalplattform//DE
VERSION:2.0
METHOD:PUBLISH
BEGIN:VEVENT
DTSTART:20260702T220000Z
DTEND:20260702T220000Z
DTSTAMP:20260424T224725Z
UID:4481190-4481090-1783029600000
SUMMARY:Rosenzauber: Veranstaltung der Bücherei
DESCRIPTION:Rosenzauber: Veranstaltung der Bücherei
CLASS:PUBLIC
X-ALT-DESC;FMTTYPE=text/html:Rosenzauber: Veranstaltung der Bücherei
END:VEVENT
END:VCALENDAR
